BEGIN:VCALENDAR
VERSION:2.0
PRODID:-//Fabio Sharmanà - ECPv6.15.20//NONSGML v1.0//EN
CALSCALE:GREGORIAN
METHOD:PUBLISH
X-ORIGINAL-URL:https://fabiosharmana.it
X-WR-CALDESC:Eventi per Fabio Sharmanà
REFRESH-INTERVAL;VALUE=DURATION:PT1H
X-Robots-Tag:noindex
X-PUBLISHED-TTL:PT1H
BEGIN:VTIMEZONE
TZID:UTC
BEGIN:STANDARD
TZOFFSETFROM:+0000
TZOFFSETTO:+0000
TZNAME:UTC
DTSTART:20240101T000000
END:STANDARD
END:VTIMEZONE
BEGIN:VEVENT
DTSTART;TZID=UTC:20250906T100000
DTEND;TZID=UTC:20250907T170000
DTSTAMP:20260421T134742
CREATED:20250716T131834Z
LAST-MODIFIED:20250716T132058Z
UID:850-1757152800-1757264400@fabiosharmana.it
SUMMARY:Malpensa Benessere 6-7 settembre 2025
DESCRIPTION:https://fabiosharmana.it/wp-content/uploads/2025/07/WhatsApp-Video-2025-07-15-at-08.36.46.mp4
URL:https://fabiosharmana.it/event/malpensa-benessere-6-7-settembre-2025/
ATTACH;FMTTYPE=image/jpeg:https://fabiosharmana.it/wp-content/uploads/2025/07/Malpensa-benessere-settembre-25.jpg
END:VEVENT
BEGIN:VEVENT
DTSTART;TZID=UTC:20250813T080000
DTEND;TZID=UTC:20250813T170000
DTSTAMP:20260421T134742
CREATED:20250813T142637Z
LAST-MODIFIED:20250813T142637Z
UID:964-1755072000-1755104400@fabiosharmana.it
SUMMARY:Corso di radiestesia e radionica multidimensionale - Montesilvano (PE)
DESCRIPTION:Corso di Radiestesia e Radionica multidimensionale – 20-21 settembre 2025 – \nMontesilvano (PE)  Via Gramsci n.16 \n327 7031803
URL:https://fabiosharmana.it/event/corso-di-radiestesia-e-radionica-multidimensionale-montesilvano-pe/
ATTACH;FMTTYPE=image/jpeg:https://fabiosharmana.it/wp-content/uploads/2025/08/Immagine-2025-08-13-161756.jpg
END:VEVENT
BEGIN:VEVENT
DTSTART;TZID=UTC:20250809T093000
DTEND;TZID=UTC:20250810T180000
DTSTAMP:20260421T134742
CREATED:20250712T164813Z
LAST-MODIFIED:20250914T195443Z
UID:799-1754731800-1754848800@fabiosharmana.it
SUMMARY:radioestesia e Radionica Multidimensionale - Forlì - 9/10 Agosto
DESCRIPTION:Il prossimo corso di radioestesia e radionica Multidimensionale tenuto da Fabio Sharmanà si svolgerà a Forlì \nCentro Olistico Iadeo \nOrari\nsabato 9:30/13 –  14/18:30\ndomenica 9/13. – 14/18\nDispensa e attestato \nInformazioni: 348 3511849
URL:https://fabiosharmana.it/event/radioestesia-e-radionica-multidimensionale-forli-9-10-agosto/
ATTACH;FMTTYPE=image/jpeg:https://fabiosharmana.it/wp-content/uploads/2025/07/corso-forli.jpeg
END:VEVENT
BEGIN:VEVENT
DTSTART;TZID=UTC:20250423T000000
DTEND;TZID=UTC:20250622T235959
DTSTAMP:20260421T134742
CREATED:20250312T120252Z
LAST-MODIFIED:20250423T092852Z
UID:71-1745366400-1750636799@fabiosharmana.it
SUMMARY:Corso radioestesia e radionica multidimensionale
DESCRIPTION:A Padova torna il corso di fabio Shatmanà di Radioestesia e Radionica multidimensionale
URL:https://fabiosharmana.it/event/padova-giugno-25/
ATTACH;FMTTYPE=image/jpeg:https://fabiosharmana.it/wp-content/uploads/2025/03/IMG-20250329-WA0001.jpg
END:VEVENT
END:VCALENDAR