BEGIN:VCALENDAR
VERSION:2.0
PRODID:-//Fabio Sharmanà - ECPv6.15.20//NONSGML v1.0//EN
CALSCALE:GREGORIAN
METHOD:PUBLISH
X-ORIGINAL-URL:https://fabiosharmana.it
X-WR-CALDESC:Eventi per Fabio Sharmanà
REFRESH-INTERVAL;VALUE=DURATION:PT1H
X-Robots-Tag:noindex
X-PUBLISHED-TTL:PT1H
BEGIN:VTIMEZONE
TZID:UTC
BEGIN:STANDARD
TZOFFSETFROM:+0000
TZOFFSETTO:+0000
TZNAME:UTC
DTSTART:20250101T000000
END:STANDARD
END:VTIMEZONE
BEGIN:VEVENT
DTSTART;TZID=UTC:20260214T100000
DTEND;TZID=UTC:20260215T183000
DTSTAMP:20260421T134028
CREATED:20251116T141345Z
LAST-MODIFIED:20251116T141345Z
UID:1136-1771063200-1771180200@fabiosharmana.it
SUMMARY:Forlì: Natural Expo
DESCRIPTION:Forlì- Natural Expo 14-15 febbraio 2026
URL:https://fabiosharmana.it/event/forli-natural-expo/
LOCATION:Forlì
CATEGORIES:Fiere
ATTACH;FMTTYPE=image/jpeg:https://fabiosharmana.it/wp-content/uploads/2025/11/WhatsApp-Image-2025-11-16-at-14.42.36.jpeg
END:VEVENT
BEGIN:VEVENT
DTSTART;TZID=UTC:20260207T090000
DTEND;TZID=UTC:20260208T180000
DTSTAMP:20260421T134028
CREATED:20251013T165515Z
LAST-MODIFIED:20251116T100522Z
UID:1074-1770454800-1770573600@fabiosharmana.it
SUMMARY:Malpensa Benessere 7-8 febbraio 2026
DESCRIPTION:Malpensa Benessere
URL:https://fabiosharmana.it/event/malpensa-benessere-7-8-febbraio-2026/
CATEGORIES:Fiere
ATTACH;FMTTYPE=image/jpeg:https://fabiosharmana.it/wp-content/uploads/2025/10/malpensa.jpg
END:VEVENT
END:VCALENDAR