BEGIN:VCALENDAR
VERSION:2.0
PRODID:-//Fabio Sharmanà - ECPv6.15.20//NONSGML v1.0//EN
CALSCALE:GREGORIAN
METHOD:PUBLISH
X-ORIGINAL-URL:https://fabiosharmana.it
X-WR-CALDESC:Eventi per Fabio Sharmanà
REFRESH-INTERVAL;VALUE=DURATION:PT1H
X-Robots-Tag:noindex
X-PUBLISHED-TTL:PT1H
BEGIN:VTIMEZONE
TZID:UTC
BEGIN:STANDARD
TZOFFSETFROM:+0000
TZOFFSETTO:+0000
TZNAME:UTC
DTSTART:20250101T000000
END:STANDARD
END:VTIMEZONE
BEGIN:VEVENT
DTSTART;TZID=UTC:20260502T093000
DTEND;TZID=UTC:20260502T170000
DTSTAMP:20260421T131812
CREATED:20260204T065306Z
LAST-MODIFIED:20260204T065519Z
UID:1187-1777714200-1777741200@fabiosharmana.it
SUMMARY:Padova: la piramide di Kovaksik
DESCRIPTION:LapiramidediKovaksik-Giornata di sedute individuali \nPadova via Torre\, 29   – :30-17:00
URL:https://fabiosharmana.it/event/padova-la-piramide-di-kovaksik/
CATEGORIES:Eventi
ATTACH;FMTTYPE=image/jpeg:https://fabiosharmana.it/wp-content/uploads/2026/02/WhatsApp-Image-2026-02-03-at-10.43.40.jpeg
END:VEVENT
END:VCALENDAR