BEGIN:VCALENDAR
VERSION:2.0
PRODID:-//Fabio Sharmanà - ECPv6.15.20//NONSGML v1.0//EN
CALSCALE:GREGORIAN
METHOD:PUBLISH
X-WR-CALNAME:Fabio Sharmanà
X-ORIGINAL-URL:https://fabiosharmana.it
X-WR-CALDESC:Eventi per Fabio Sharmanà
REFRESH-INTERVAL;VALUE=DURATION:PT1H
X-Robots-Tag:noindex
X-PUBLISHED-TTL:PT1H
BEGIN:VTIMEZONE
TZID:UTC
BEGIN:STANDARD
TZOFFSETFROM:+0000
TZOFFSETTO:+0000
TZNAME:UTC
DTSTART:20240101T000000
END:STANDARD
END:VTIMEZONE
BEGIN:VEVENT
DTSTART;TZID=UTC:20260417T080000
DTEND;TZID=UTC:20260419T170000
DTSTAMP:20260421T133248
CREATED:20250914T101504Z
LAST-MODIFIED:20251009T100551Z
UID:1015-1776412800-1776618000@fabiosharmana.it
SUMMARY:La via della Luce _ Firenzuola D'Arda (PC)
DESCRIPTION:Convegno – La via della Luce \nIl mondo spirituale e le sue varie dimensioni \n \n 
URL:https://fabiosharmana.it/event/la-via-della-luce-_-firenzuola-darda-pc/
LOCATION:Firenzuola D’Arda (PC)
CATEGORIES:Eventi
ATTACH;FMTTYPE=image/jpeg:https://fabiosharmana.it/wp-content/uploads/2025/09/via-della-luce-Fabio.jpeg
END:VEVENT
BEGIN:VEVENT
DTSTART;TZID=UTC:20260417T080000
DTEND;TZID=UTC:20260419T170000
DTSTAMP:20260421T133248
CREATED:20250716T132507Z
LAST-MODIFIED:20251009T100537Z
UID:854-1776412800-1776618000@fabiosharmana.it
SUMMARY:Relatore al convegno "le vie della Luce" 17-18-19 aprile 2026
DESCRIPTION:Seguiranno dettagli dell’evento
URL:https://fabiosharmana.it/event/relatore-al-convegno-le-vie-della-luce-17-18-19-aprile-2026/
CATEGORIES:Eventi
ATTACH;FMTTYPE=image/jpeg:https://fabiosharmana.it/wp-content/uploads/2025/07/WhatsApp-Image-2025-07-15-at-10.45.54.jpeg
END:VEVENT
BEGIN:VEVENT
DTSTART;TZID=UTC:20260307T093000
DTEND;TZID=UTC:20260308T180000
DTSTAMP:20260421T133249
CREATED:20260108T175832Z
LAST-MODIFIED:20260108T193035Z
UID:1172-1772875800-1772992800@fabiosharmana.it
SUMMARY:Corso Radiestesia e radionica Mulditimensionale
DESCRIPTION:La Toscana torna a ospitare il corso di Radiestesia e Radionica Multidimensionale di Fabio Sharmanà. Due giorni di lavoro\, dalle 9.30 alle 18. \nScandicci (FI) 7  e 8 marzo 2026 \,
URL:https://fabiosharmana.it/event/corso-radiestesia-e-radionica-mulditimensionale/
LOCATION:Salotto della papessa\, via dante 20\, Scandicci (FI)\, PI\, 50018\, Italy
CATEGORIES:Corsi,Eventi
ATTACH;FMTTYPE=image/jpeg:https://fabiosharmana.it/wp-content/uploads/2026/01/FABIO-7-8-MARZO-26.jpg
END:VEVENT
BEGIN:VEVENT
DTSTART;TZID=UTC:20251109T000000
DTEND;TZID=UTC:20251109T235959
DTSTAMP:20260421T133249
CREATED:20250821T131654Z
LAST-MODIFIED:20251009T100530Z
UID:987-1762646400-1762732799@fabiosharmana.it
SUMMARY:Conferenza Piramide di Kovacsik
DESCRIPTION:Domenica 9 novembre 2025 \nSala delle Riunioni della carrozzeria Bozzato \nVia dell’Artigianato n.5 \nTeglio Veneto (VE)vacsik \n 
URL:https://fabiosharmana.it/event/conferenza-piramide-di-kovacsik/
CATEGORIES:Eventi
ATTACH;FMTTYPE=image/jpeg:https://fabiosharmana.it/wp-content/uploads/2025/08/WhatsApp-Image-2025-08-20-at-18.19.52.jpeg
END:VEVENT
BEGIN:VEVENT
DTSTART;TZID=UTC:20251026T000000
DTEND;TZID=UTC:20251026T235959
DTSTAMP:20260421T133249
CREATED:20251001T151004Z
LAST-MODIFIED:20251013T161059Z
UID:1066-1761436800-1761523199@fabiosharmana.it
SUMMARY:Padova 26 ottobre 2025
DESCRIPTION:26 ottobre 2025 \n \n 
URL:https://fabiosharmana.it/event/padova-26-ottobre-2025/
CATEGORIES:Eventi
ATTACH;FMTTYPE=image/jpeg:https://fabiosharmana.it/wp-content/uploads/2025/10/IMG-20251013-WA0008.jpg
END:VEVENT
END:VCALENDAR