BEGIN:VCALENDAR
VERSION:2.0
PRODID:-//Fabio Sharmanà - ECPv6.15.20//NONSGML v1.0//EN
CALSCALE:GREGORIAN
METHOD:PUBLISH
X-WR-CALNAME:Fabio Sharmanà
X-ORIGINAL-URL:https://fabiosharmana.it
X-WR-CALDESC:Eventi per Fabio Sharmanà
REFRESH-INTERVAL;VALUE=DURATION:PT1H
X-Robots-Tag:noindex
X-PUBLISHED-TTL:PT1H
BEGIN:VTIMEZONE
TZID:UTC
BEGIN:STANDARD
TZOFFSETFROM:+0000
TZOFFSETTO:+0000
TZNAME:UTC
DTSTART:20250101T000000
END:STANDARD
END:VTIMEZONE
BEGIN:VEVENT
DTSTART;TZID=UTC:20260503T093000
DTEND;TZID=UTC:20260503T180000
DTSTAMP:20260421T115428
CREATED:20260204T065841Z
LAST-MODIFIED:20260204T065841Z
UID:1193-1777800600-1777831200@fabiosharmana.it
SUMMARY:Padova: radiestesia e radionica - Esperienze
DESCRIPTION:Giornata di esperienze di radioestesia e radionica \nSU APPUNTAMENTO \ndall39:30alle18:00 \nPadova Via Torre 29
URL:https://fabiosharmana.it/event/padova-radiestesia-e-radionica-esperienze/
CATEGORIES:Corsi
ATTACH;FMTTYPE=image/jpeg:https://fabiosharmana.it/wp-content/uploads/2026/02/WhatsApp-Image-2026-02-03-at-10.43.28.jpeg
END:VEVENT
BEGIN:VEVENT
DTSTART;TZID=UTC:20260523T093000
DTEND;TZID=UTC:20260524T183000
DTSTAMP:20260421T115428
CREATED:20251125T103221Z
LAST-MODIFIED:20251125T103221Z
UID:1140-1779528600-1779647400@fabiosharmana.it
SUMMARY:Montesilvano (PE) 23-24 maggio 2026
DESCRIPTION:
URL:https://fabiosharmana.it/event/montesilvano-pe-23-24-maggio-2026/
LOCATION:Montesilvano\, via Gramsci 16\, Montesilvano (PE)
CATEGORIES:Corsi
ATTACH;FMTTYPE=image/jpeg:https://fabiosharmana.it/wp-content/uploads/2025/11/WhatsApp-Image-2025-11-25-at-09.26.52.jpeg
END:VEVENT
BEGIN:VEVENT
DTSTART;TZID=UTC:20260808T100000
DTEND;TZID=UTC:20260809T180000
DTSTAMP:20260421T115428
CREATED:20260319T182317Z
LAST-MODIFIED:20260319T182317Z
UID:1201-1786183200-1786298400@fabiosharmana.it
SUMMARY:Forlì 8-9 agosto 2026 Radiestesia e radionica multidimensionale
DESCRIPTION:Forli\, 8-9 agosto 2026 \nCorso radiestesia e radionica Multidimensionale
URL:https://fabiosharmana.it/event/forli-8-9-agosto-2026-radiestesia-e-radionica-multidimensionale/
CATEGORIES:Corsi
ATTACH;FMTTYPE=image/jpeg:https://fabiosharmana.it/wp-content/uploads/2026/03/WhatsApp-Image-2026-03-07-at-20.53.52.jpeg
END:VEVENT
END:VCALENDAR